BEGIN:VCALENDAR
VERSION:2.0
PRODID:-//Tauchen - PSV-Stuttgart - ECPv6.15.14//NONSGML v1.0//EN
CALSCALE:GREGORIAN
METHOD:PUBLISH
X-ORIGINAL-URL:https://tauchen.psv-stuttgart.de
X-WR-CALDESC:Veranstaltungen für Tauchen - PSV-Stuttgart
REFRESH-INTERVAL;VALUE=DURATION:PT1H
X-Robots-Tag:noindex
X-PUBLISHED-TTL:PT1H
BEGIN:VTIMEZONE
TZID:Europe/Berlin
BEGIN:DAYLIGHT
TZOFFSETFROM:+0100
TZOFFSETTO:+0200
TZNAME:CEST
DTSTART:20250330T010000
END:DAYLIGHT
BEGIN:STANDARD
TZOFFSETFROM:+0200
TZOFFSETTO:+0100
TZNAME:CET
DTSTART:20251026T010000
END:STANDARD
BEGIN:DAYLIGHT
TZOFFSETFROM:+0100
TZOFFSETTO:+0200
TZNAME:CEST
DTSTART:20260329T010000
END:DAYLIGHT
BEGIN:STANDARD
TZOFFSETFROM:+0200
TZOFFSETTO:+0100
TZNAME:CET
DTSTART:20261025T010000
END:STANDARD
BEGIN:DAYLIGHT
TZOFFSETFROM:+0100
TZOFFSETTO:+0200
TZNAME:CEST
DTSTART:20270328T010000
END:DAYLIGHT
BEGIN:STANDARD
TZOFFSETFROM:+0200
TZOFFSETTO:+0100
TZNAME:CET
DTSTART:20271031T010000
END:STANDARD
END:VTIMEZONE
BEGIN:VEVENT
DTSTART;TZID=Europe/Berlin:20260323T180000
DTEND;TZID=Europe/Berlin:20260323T190000
DTSTAMP:20260421T133421
CREATED:20260226T213145Z
LAST-MODIFIED:20260226T213339Z
UID:750-1774288800-1774292400@tauchen.psv-stuttgart.de
SUMMARY:Tauchflaschen Abgabe für die Druckprüfung 2. Termin
DESCRIPTION:Wie jedes Auto – müssen Tauchflaschen (PTG) zur „Wiederkehrende Prüfung von Atemluftflaschen“ \n2. Termin am 23.03.26 vor dem Training von 18:00 bis 19:00 Uhr (letzte Möglichkeit) \nDie Flaschen werden am 24.03.26\, vom Dienstleister abgeholt und kommen 3 Wochen später wiederzurückgebracht. Die Flaschen müssen „nackt“ sein\, d.h. ohne Luft\, keine Tragegriffe\, kein Netz und keinen Standfuß. Am besten noch mit Namen gekennzeichnet. \nEine Anmeldung ist nicht notwendig! \nTauchflasche -KI generiert \n  \n 
URL:https://tauchen.psv-stuttgart.de/termin/750/
LOCATION:PSV Vereinsheim Stuttgart\, Fritz-Walter-Weg 10\, Stuttgart\, Baden Würtemberg\, 70372\, Germany
END:VEVENT
END:VCALENDAR