BEGIN:VCALENDAR
VERSION:2.0
PRODID:-//Tauchen - PSV-Stuttgart - ECPv6.15.14//NONSGML v1.0//EN
CALSCALE:GREGORIAN
METHOD:PUBLISH
X-WR-CALNAME:Tauchen - PSV-Stuttgart
X-ORIGINAL-URL:https://tauchen.psv-stuttgart.de
X-WR-CALDESC:Veranstaltungen für Tauchen - PSV-Stuttgart
REFRESH-INTERVAL;VALUE=DURATION:PT1H
X-Robots-Tag:noindex
X-PUBLISHED-TTL:PT1H
BEGIN:VTIMEZONE
TZID:Europe/Berlin
BEGIN:DAYLIGHT
TZOFFSETFROM:+0100
TZOFFSETTO:+0200
TZNAME:CEST
DTSTART:20250330T010000
END:DAYLIGHT
BEGIN:STANDARD
TZOFFSETFROM:+0200
TZOFFSETTO:+0100
TZNAME:CET
DTSTART:20251026T010000
END:STANDARD
BEGIN:DAYLIGHT
TZOFFSETFROM:+0100
TZOFFSETTO:+0200
TZNAME:CEST
DTSTART:20260329T010000
END:DAYLIGHT
BEGIN:STANDARD
TZOFFSETFROM:+0200
TZOFFSETTO:+0100
TZNAME:CET
DTSTART:20261025T010000
END:STANDARD
BEGIN:DAYLIGHT
TZOFFSETFROM:+0100
TZOFFSETTO:+0200
TZNAME:CEST
DTSTART:20270328T010000
END:DAYLIGHT
BEGIN:STANDARD
TZOFFSETFROM:+0200
TZOFFSETTO:+0100
TZNAME:CET
DTSTART:20271031T010000
END:STANDARD
END:VTIMEZONE
BEGIN:VEVENT
DTSTART;TZID=Europe/Berlin:20260506T180000
DTEND;TZID=Europe/Berlin:20260506T190000
DTSTAMP:20260421T132946
CREATED:20260402T194629Z
LAST-MODIFIED:20260402T195612Z
UID:789-1778090400-1778094000@tauchen.psv-stuttgart.de
SUMMARY:Kompressor Einweisung - letzte Möglichkeit
DESCRIPTION:Alle Jahre wieder…. \nVor unserer Jahreshauptversammlung bittet Jürgen nochmal die Möglichkeit\, zur Einweisung am Kompressor an. \nAlle die keine Einweisung haben werden zeitnah gesperrt. \nTauchflasche -KI generiert \n  \n 
URL:https://tauchen.psv-stuttgart.de/termin/kompressor-einweisung-letzte-moeglichkeit/
LOCATION:PSV Vereinsheim Stuttgart\, Fritz-Walter-Weg 10\, Stuttgart\, Baden Würtemberg\, 70372\, Germany
CATEGORIES:Abteilungstermine
END:VEVENT
BEGIN:VEVENT
DTSTART;TZID=Europe/Berlin:20260506T190000
DTEND;TZID=Europe/Berlin:20260506T213000
DTSTAMP:20260421T132946
CREATED:20260402T194933Z
LAST-MODIFIED:20260402T194933Z
UID:791-1778094000-1778103000@tauchen.psv-stuttgart.de
SUMMARY:Jahreshauptversammlung Tauchabteilung
DESCRIPTION:Am \nMittwoch\, 06. Mai 2026 um 19.00 Uhr \nim \nPSV-Vereinsheim\, Fritz-Walter-Weg 10\, 70372 Stuttgart \nfindet die Hauptversammlung für das Jahr 2026 statt. \nTagesordnungspunkte \n\nBegrüßung durch den Versammlungsleiter\nJahresbericht der Vorstände für das vergangene Jahr\nKassen- und Finanzbericht des Schatzmeisters/Kassenwarts\nBericht des Kassenprüfers\nEntlastung des Vorstands\nGenehmigung des Haushaltsplans für das laufende Jahr\nWahl des neuen Vorstands\nWahl Jugendvorstand – Position ist offen\nVerschiedenes\, Anträge (z. B. beantragte Tagesordnungspunkte der Mitglieder)\n\nAnträge für die Tagesordnungspunkte müssen bis spätestens 1 Woche vor der Versammlung dem Vorstand vorliegen. Hierzu bitte direkt auf Markus Rettenmaier zugehen/ eine Email senden. \nBitte beachtet\, dass an dieser Veranstaltung nur Mitglieder teilnehmen können und die Hauptversammlung nicht öffentlich ist. \n– \nEin zahlreiches Erscheinen bietet die Möglichkeit\, auf die Geschicke der Abteilung Einfluss zu nehmen. Darüber freut sich \nEuere Abteilungsvorstände! \n 
URL:https://tauchen.psv-stuttgart.de/termin/jahreshauptversammlung-tauchabteilung/
LOCATION:PSV Vereinsheim Stuttgart\, Fritz-Walter-Weg 10\, Stuttgart\, Baden Würtemberg\, 70372\, Germany
CATEGORIES:Abteilungstermine
END:VEVENT
END:VCALENDAR