BEGIN:VCALENDAR
VERSION:2.0
PRODID:-//Tauchen - PSV-Stuttgart - ECPv6.15.14//NONSGML v1.0//EN
CALSCALE:GREGORIAN
METHOD:PUBLISH
X-ORIGINAL-URL:https://tauchen.psv-stuttgart.de
X-WR-CALDESC:Veranstaltungen für Tauchen - PSV-Stuttgart
REFRESH-INTERVAL;VALUE=DURATION:PT1H
X-Robots-Tag:noindex
X-PUBLISHED-TTL:PT1H
BEGIN:VTIMEZONE
TZID:Europe/Berlin
BEGIN:DAYLIGHT
TZOFFSETFROM:+0100
TZOFFSETTO:+0200
TZNAME:CEST
DTSTART:20250330T010000
END:DAYLIGHT
BEGIN:STANDARD
TZOFFSETFROM:+0200
TZOFFSETTO:+0100
TZNAME:CET
DTSTART:20251026T010000
END:STANDARD
BEGIN:DAYLIGHT
TZOFFSETFROM:+0100
TZOFFSETTO:+0200
TZNAME:CEST
DTSTART:20260329T010000
END:DAYLIGHT
BEGIN:STANDARD
TZOFFSETFROM:+0200
TZOFFSETTO:+0100
TZNAME:CET
DTSTART:20261025T010000
END:STANDARD
BEGIN:DAYLIGHT
TZOFFSETFROM:+0100
TZOFFSETTO:+0200
TZNAME:CEST
DTSTART:20270328T010000
END:DAYLIGHT
BEGIN:STANDARD
TZOFFSETFROM:+0200
TZOFFSETTO:+0100
TZNAME:CET
DTSTART:20271031T010000
END:STANDARD
END:VTIMEZONE
BEGIN:VEVENT
DTSTART;VALUE=DATE:20261019
DTEND;VALUE=DATE:20261028
DTSTAMP:20260421T193134
CREATED:20260317T030209Z
LAST-MODIFIED:20260317T105953Z
UID:765-1792368000-1793145599@tauchen.psv-stuttgart.de
SUMMARY:Vereinsausfahrt Malta\, Herbst 2026
DESCRIPTION:Zeitraum: 19.10. – 27.10.2026 \nOrt: Malta\, Saint Paul’s Bay (Bugibba)\, Gillieru Harbour Hotel   https://www.gillieru.com/ \nTauchbasis unter deutscher Leitung\,  „Octopus Garden“ im Hotel   https://www.gillieru.com/diving-center/ \nPreise Hotel und Flüge (alles inkl. Frühstück): \n‚- Doppelzimmer Standard\, pro Person € 872\,- \n‚- Doppelzimmer Meerblick\, pro Person € 974\,- \n‚- Einzelzimmer Standard\, pro Person € 1230\,- \n‚- Einzelzimmer Meerblick\, pro Person € 1333\,- \nPreise Tauchen: \n10 TGs als Paket – 5 Tauchtage\, inkl. Flasche\, Blei\, Boot bzw. Bus € 475\,- \n  \nZur Info: Flüge\, wie beschrieben bereits im Angebot\, hin Frankfurt – Malta 20:30-23:05 /LH1314/19.10.26\, zurück Malta – Frankfurt 14:15-17:00 /LH1311/27.10.26 \n  \nAngefragt ist der Trip für bis zu 20 Teilnehmer\, da es sich um kein Bootscharter handelt\, kann das auch variieren. Den 21. Teilnehmer bringen wir auch noch unter! \nTripinfo: \nDer maltesische Archipel ist bekanntermaßen ein Tauch-Highlight im Mittelmeer\, auch und speziell für Grotten-\, Drop Off- und Wracktauch-Fans. Es gibt Einiges zu entdecken im Taucherparadies im südlichen Mittelmeer\, die Tauchbasis fährt mehr als 50 Spots an – wunderschöne Grotten\, Felsenbögen\, natürliche Häfen\, Buchten\, Klippen\, Riffs und Schiffswracks. \nDer Herbst bringt auf Malta gute Sichtbedingungen bei immer noch warmem Wasser (ca. 22-24° C)\, dank der Lage südlich von Sizilien. „5er“ sollte ausreichen\, evtl. „7er“ – je nach Befinden. \nNoch ein Wort zur Verpflegung: Unterkunft ist inkl. Frühstück\, aber mitten im Hafenviertel / Stadtgebiet. Mir wurde versichert\, daß es von kleinen Restaurants\, Bars und Cafes im Umfeld nur so wimmelt\, also…
URL:https://tauchen.psv-stuttgart.de/termin/vereinsausfahrt-malta-herbst-2026/
LOCATION:Malta\, Saint Paul's Bay (Bugibba)\, Malta
CATEGORIES:Club-Ausfahrten
ATTACH;FMTTYPE=image/jpeg:https://tauchen.psv-stuttgart.de/wp-content/uploads/sites/14/2026/03/Maltamap.jpg
END:VEVENT
END:VCALENDAR